BEGIN:VCALENDAR
VERSION:2.0
PRODID:-//ΔΕΠΑ ΕΜΠΟΡΙΑΣ Μ.Α.Ε - ECPv6.15.17.1//NONSGML v1.0//EN
CALSCALE:GREGORIAN
METHOD:PUBLISH
X-WR-CALNAME:ΔΕΠΑ ΕΜΠΟΡΙΑΣ Μ.Α.Ε
X-ORIGINAL-URL:https://www.depa.gr
X-WR-CALDESC:Events for ΔΕΠΑ ΕΜΠΟΡΙΑΣ Μ.Α.Ε
REFRESH-INTERVAL;VALUE=DURATION:PT1H
X-Robots-Tag:noindex
X-PUBLISHED-TTL:PT1H
BEGIN:VTIMEZONE
TZID:Europe/Athens
BEGIN:DAYLIGHT
TZOFFSETFROM:+0200
TZOFFSETTO:+0300
TZNAME:EEST
DTSTART:20250330T010000
END:DAYLIGHT
BEGIN:STANDARD
TZOFFSETFROM:+0300
TZOFFSETTO:+0200
TZNAME:EET
DTSTART:20251026T010000
END:STANDARD
BEGIN:DAYLIGHT
TZOFFSETFROM:+0200
TZOFFSETTO:+0300
TZNAME:EEST
DTSTART:20260329T010000
END:DAYLIGHT
BEGIN:STANDARD
TZOFFSETFROM:+0300
TZOFFSETTO:+0200
TZNAME:EET
DTSTART:20261025T010000
END:STANDARD
BEGIN:DAYLIGHT
TZOFFSETFROM:+0200
TZOFFSETTO:+0300
TZNAME:EEST
DTSTART:20270328T010000
END:DAYLIGHT
BEGIN:STANDARD
TZOFFSETFROM:+0300
TZOFFSETTO:+0200
TZNAME:EET
DTSTART:20271031T010000
END:STANDARD
END:VTIMEZONE
BEGIN:VEVENT
DTSTART;VALUE=DATE:20260702
DTEND;VALUE=DATE:20260703
DTSTAMP:20260423T113335
CREATED:20260310T082704Z
LAST-MODIFIED:20260310T082704Z
UID:20683-1782950400-1783036799@www.depa.gr
SUMMARY:15th HR in Action 2026
DESCRIPTION:Γιορτάζοντας την Κρυστάλλινη Επέτειό μας!\nΠέμπτη\, 2 Ιουλίου 2026\n«Θέατρον»\, Κέντρο Πολιτισμού «Ελληνικός Κόσμος»\nΜε υπερηφάνεια και συγκίνηση γιορτάζουμε 15 χρόνια συναπτής παρουσίας! Γιορτάζουμε την Κρυστάλλινη Επέτειο\, που συμβολίζει τη διαφάνεια\, τη σταθερότητα και τη λαμπρότητα που έχει προσφέρει το συνέδριο στο χώρο του HR.\nΔεκαπέντε χρόνια δίνουμε βήμα και χώρο στις καλύτερες πρακτικές\, στις πιο ενδιαφέρουσες στρατηγικές και στις πιο δημιουργικές ιδέες που υλοποιούνται από τις Διευθύνσεις Διαχείρισης Ανθρώπινου Δυναμικού στην Ελλάδα! \nΑυτή η επέτειος είναι αφιερωμένη σε όλους εσάς – στους ηγέτες\, τους ειδικούς\, και τους πρωτοπόρους που\, χρόνο με το χρόνο\, μοιράζεστε την εμπειρία και τη γνώση σας\, μετατρέποντας το HR in Action σε ένα ζωντανό αρχείο της εξέλιξης του επαγγέλματος!
URL:https://www.depa.gr/event/15th-hr-in-action-2026/
LOCATION:«Θέατρον»\, Κέντρο Πολιτισμού «Ελληνικός Κόσμος»\, Greece
ATTACH;FMTTYPE=image/png:https://www.depa.gr/wp-content/uploads/2026/03/screenshot-2026-03-10-102615.png
END:VEVENT
BEGIN:VEVENT
DTSTART;VALUE=DATE:20260708
DTEND;VALUE=DATE:20260709
DTSTAMP:20260423T113335
CREATED:20260310T083141Z
LAST-MODIFIED:20260310T083154Z
UID:20693-1783468800-1783555199@www.depa.gr
SUMMARY:AI in Financial Services Conference
DESCRIPTION:Orchestrating Intelligence: from AI Algorithms to Autonomous Value Creation\nWednesday 08 July 2026\, Ethniki Asfalistiki Conference Center\nThe 2nd annual Conference will demonstrate how AI is moving beyond experimentation to Corporate integration\, transforming Banking\, Insurance\, Asset & Treasury Management\, and Investment Advisory. Generative AI\, Agentic AI\, and Hybrid AI models empower Banks’ C-level Officers\, Treasurers\, Chief Investment Officers\, Insurance Executives of the wider ecosystem speeding up Processes\, strengthening Portfolios\, optimizing Liquidity\, and designing AI-native Financial Services.
URL:https://www.depa.gr/event/ai-in-financial-services-conference/
LOCATION:Ethniki Asfalistiki Conference Center\, Greece
ATTACH;FMTTYPE=image/png:https://www.depa.gr/wp-content/uploads/2026/03/screenshot-2026-03-10-103037.png
END:VEVENT
BEGIN:VEVENT
DTSTART;TZID=Europe/Athens:20260708T080000
DTEND;TZID=Europe/Athens:20260710T170000
DTSTAMP:20260423T113335
CREATED:20251204T082104Z
LAST-MODIFIED:20251204T082131Z
UID:20433-1783497600-1783702800@www.depa.gr
SUMMARY:Economist Conferences - Greece - EVENTS
DESCRIPTION:The current global and European landscape is defined by a convergence of multiple crises and complex challenges across the political\, economic\, social\, and environmental spheres. At the same time\, Europe stands at a critical juncture where security\, economic resilience\, and energy autonomy have become fundamental priorities. \nWithin this evolving context\, next year’s 30th Anniversary Edition of the Athens Government Roundtable entitled “Progress in an age of upheaval” will seek to explore key aspects that highlight the global momentum in response to the emerging reality within the new global landscape. \nThe event is scheduled to take place in Athens at the Grand Resort Lagonissi on July 8th\, 9th and 10th 2026. \n More to come —please check back soon.
URL:https://www.depa.gr/event/economist-conferences-greece-events/
LOCATION:Grand Resort Lagonissi\, Greece
ATTACH;FMTTYPE=image/png:https://www.depa.gr/wp-content/uploads/2025/12/screenshot-2025-12-04-102036.png
END:VEVENT
END:VCALENDAR