BEGIN:VCALENDAR
VERSION:2.0
PRODID:-//ΔΕΠΑ ΕΜΠΟΡΙΑΣ Μ.Α.Ε - ECPv6.15.17.1//NONSGML v1.0//EN
CALSCALE:GREGORIAN
METHOD:PUBLISH
X-ORIGINAL-URL:https://www.depa.gr
X-WR-CALDESC:Events for ΔΕΠΑ ΕΜΠΟΡΙΑΣ Μ.Α.Ε
REFRESH-INTERVAL;VALUE=DURATION:PT1H
X-Robots-Tag:noindex
X-PUBLISHED-TTL:PT1H
BEGIN:VTIMEZONE
TZID:Europe/Athens
BEGIN:DAYLIGHT
TZOFFSETFROM:+0200
TZOFFSETTO:+0300
TZNAME:EEST
DTSTART:20250330T010000
END:DAYLIGHT
BEGIN:STANDARD
TZOFFSETFROM:+0300
TZOFFSETTO:+0200
TZNAME:EET
DTSTART:20251026T010000
END:STANDARD
BEGIN:DAYLIGHT
TZOFFSETFROM:+0200
TZOFFSETTO:+0300
TZNAME:EEST
DTSTART:20260329T010000
END:DAYLIGHT
BEGIN:STANDARD
TZOFFSETFROM:+0300
TZOFFSETTO:+0200
TZNAME:EET
DTSTART:20261025T010000
END:STANDARD
BEGIN:DAYLIGHT
TZOFFSETFROM:+0200
TZOFFSETTO:+0300
TZNAME:EEST
DTSTART:20270328T010000
END:DAYLIGHT
BEGIN:STANDARD
TZOFFSETFROM:+0300
TZOFFSETTO:+0200
TZNAME:EET
DTSTART:20271031T010000
END:STANDARD
END:VTIMEZONE
BEGIN:VEVENT
DTSTART;VALUE=DATE:20260625
DTEND;VALUE=DATE:20260626
DTSTAMP:20260423T100357
CREATED:20260310T082111Z
LAST-MODIFIED:20260310T082327Z
UID:20679-1782345600-1782431999@www.depa.gr
SUMMARY:6th Athens ESG Forum
DESCRIPTION:Charting a Course for Sustainable Business Transformation\nThursday\, June 25\, 2026\nEugenides Foundation\nThe Athens ESG Forum serves as a catalyst for transforming businesses towards a more sustainable and resilient future in Greece\, bringing together more than 300 sustainability leaders\, industry experts and key stakeholders committed to advancing the ESG principles. Participants engage in thought-provoking keynote speeches\, panel discussions\, interactive workshops and content focused networking sessions\, allowing for meaningful exchanges and collaborations. \nThe 6th Athens ESG Forum\, amid global regulatory shifts\, market skepticism and technological disruption\, marks a decisive turn from compliance and ambition to competitiveness and action. Leaders from business\, finance and policy will address ESG’s evolving purpose: redefining value creation through credible data\, digital innovation\, SME inclusion and equitable growth. Once again\, the Forum positions Athens at the forefront of Europe’s sustainability dialogue\, where ESG becomes a strategy for resilience and lasting impact. \nJoin us at the 6th Athens ESG Forum to get inspiration for your organization’s sustainable transition.
URL:https://www.depa.gr/event/6th-athens-esg-forum/
LOCATION:Eugenides Foundation
ATTACH;FMTTYPE=image/png:https://www.depa.gr/wp-content/uploads/2026/03/screenshot-2026-03-10-102212.png
END:VEVENT
END:VCALENDAR