BEGIN:VCALENDAR
VERSION:2.0
PRODID:-//ΔΕΠΑ ΕΜΠΟΡΙΑΣ Μ.Α.Ε - ECPv6.15.17.1//NONSGML v1.0//EN
CALSCALE:GREGORIAN
METHOD:PUBLISH
X-WR-CALNAME:ΔΕΠΑ ΕΜΠΟΡΙΑΣ Μ.Α.Ε
X-ORIGINAL-URL:https://www.depa.gr
X-WR-CALDESC:Events for ΔΕΠΑ ΕΜΠΟΡΙΑΣ Μ.Α.Ε
REFRESH-INTERVAL;VALUE=DURATION:PT1H
X-Robots-Tag:noindex
X-PUBLISHED-TTL:PT1H
BEGIN:VTIMEZONE
TZID:Europe/Athens
BEGIN:DAYLIGHT
TZOFFSETFROM:+0200
TZOFFSETTO:+0300
TZNAME:EEST
DTSTART:20250330T010000
END:DAYLIGHT
BEGIN:STANDARD
TZOFFSETFROM:+0300
TZOFFSETTO:+0200
TZNAME:EET
DTSTART:20251026T010000
END:STANDARD
BEGIN:DAYLIGHT
TZOFFSETFROM:+0200
TZOFFSETTO:+0300
TZNAME:EEST
DTSTART:20260329T010000
END:DAYLIGHT
BEGIN:STANDARD
TZOFFSETFROM:+0300
TZOFFSETTO:+0200
TZNAME:EET
DTSTART:20261025T010000
END:STANDARD
BEGIN:DAYLIGHT
TZOFFSETFROM:+0200
TZOFFSETTO:+0300
TZNAME:EEST
DTSTART:20270328T010000
END:DAYLIGHT
BEGIN:STANDARD
TZOFFSETFROM:+0300
TZOFFSETTO:+0200
TZNAME:EET
DTSTART:20271031T010000
END:STANDARD
END:VTIMEZONE
BEGIN:VEVENT
DTSTART;VALUE=DATE:20260310
DTEND;VALUE=DATE:20260311
DTSTAMP:20260423T081934
CREATED:20260310T080213Z
LAST-MODIFIED:20260310T080213Z
UID:20653-1773100800-1773187199@www.depa.gr
SUMMARY:14th Future of Cities conference
DESCRIPTION:Transformations through Equity\,\nTechnology\, Infrastructure and Innovation\nΤρίτη 10 Μαρτίου 2026\nΣυνεδριακός Χώρος Εθνικής Ασφαλιστικής\nΟι «Έξυπνες Πόλεις» δεν αποτελούν πλέον ένα όραμα για το μέλλον\, είναι ήδη η πραγματικότητα του σήμερα. \nΣτην Ελλάδα\, περισσότερο από ποτέ\, βρίσκονται στο επίκεντρο του ενδιαφέροντος\, καθώς η ψηφιακή αναβάθμιση του κράτους και η υιοθέτηση καινοτόμων τεχνολογιών Smart Cities δημιουργούν ένα νέο πεδίο δυνατοτήτων και προκλήσεων. \nΗ συνέργεια μεταξύ δημόσιων πολιτικών και ψηφιακών λύσεων συμβάλλει ουσιαστικά: \n\nστη βελτίωση της ποιότητας ζωής των πολιτών\nστην ενίσχυση της διαφάνειας και της προσβασιμότητας\nστην αύξηση της ανταγωνιστικότητας της χώρας\nκαι στην προώθηση της βιώσιμης αστικής ανάπτυξης\n\nΗ ψηφιακή αναβάθμιση του κράτους σε συνδυασμό με τις εφαρμογές των Smart Cities δημιουργεί ένα νέο πεδίο δυνατοτήτων και προκλήσεων. Η συνέργεια αυτή συμβάλλει καθοριστικά στη βελτίωση της ποιότητας ζωής των πολιτών\, ενισχύει τη διαφάνεια\, προάγει την ανταγωνιστικότητα της χώρας και θέτει ισχυρά θεμέλια για βιώσιμη ανάπτυξη. \nΣτο πλαίσιο αυτό\, το Future of Cities Conference 2026\, που διοργανώνεται για 14η συνεχή χρονιά από τις εκδόσεις netweek και Manufacturing της BOUSSIAS Events\, αναδεικνύει καινοτόμες πρακτικές και λύσεις που έχουν ήδη μεταμορφώσει ή πρόκειται να μεταμορφώσουν την καθημερινότητα των πολιτών. Εφαρμογές που βελτιώνουν την προσβασιμότητα στις υπηρεσίες\, ενισχύουν την ασφάλεια και αναβαθμίζουν την ποιότητα ζωής σε ατομικό και συλλογικό επίπεδο θα παρουσιαστούν και θα συζητηθούν διεξοδικά. \nΚαταξιωμένοι ομιλητές από την τοπική αυτοδιοίκηση\, καθώς και ειδικοί από τον χώρο της τεχνολογίας και των έξυπνων λύσεων\, θα αναλύσουν τις προκλήσεις και τις ευκαιρίες που προσφέρει η τεχνολογία για τη δημιουργία πόλεων πιο λειτουργικών\, ασφαλών και βιώσιμων.
URL:https://www.depa.gr/event/14th-future-of-cities-conference-2/
LOCATION:Συνεδριακός Χώρος Εθνικής Ασφαλιστικής\, Greece
ATTACH;FMTTYPE=image/png:https://www.depa.gr/wp-content/uploads/2026/03/screenshot-2026-03-10-100137.png
END:VEVENT
BEGIN:VEVENT
DTSTART;VALUE=DATE:20260312
DTEND;VALUE=DATE:20260313
DTSTAMP:20260423T081934
CREATED:20260310T080834Z
LAST-MODIFIED:20260310T080834Z
UID:20659-1773273600-1773359999@www.depa.gr
SUMMARY:Corporate Governance & Compliance conference
DESCRIPTION:Μετασχηματίζοντας τη Συμμόρφωση σε Ανθεκτικότητα\nΠέμπτη 12 Μαρτίου 2026\nSofitel Athens Airport\nΤα τελευταία χρόνια\, η ραγδαία εισαγωγή νέων νόμων και κανονιστικών απαιτήσεων στην Ελλάδα και την ΕΕ έχει αναδιαμορφώσει ουσιαστικά το τοπίο της Εταιρικής Διακυβέρνησης. Οι οργανισμοί δεν καλούνται πλέον απλώς να υιοθετούν πολιτικές· καλούνται να αποδεικνύουν στην πράξη ότι τα συστήματα Εσωτερικού Ελέγχου\, οι μηχανισμοί παρακολούθησης και οι διαδικασίες διαχείρισης κινδύνων λειτουργούν αποτελεσματικά και παράγουν απτή αξία. \nΗ εποχή της τυπικής συμμόρφωσης έχει παρέλθει. \nΗ Εταιρική Διακυβέρνηση δεν αξιολογείται από την ύπαρξη πολιτικών και διαδικασιών\, αλλά από τη λειτουργικότητα\, τη διαφάνεια και τη μετρήσιμη αποτελεσματικότητά τους. \nΗ ουσιαστική εφαρμογή της διακυβέρνησης αποτελεί πλέον ζήτημα οργανωτικής ανθεκτικότητας\, διοικητικής λογοδοσίας και επιχειρησιακής ωριμότητας. \nΤο Διοικητικό Συμβούλιο δεν είναι απλώς αποδέκτης αναφορών. Είναι θεματοφύλακας κινδύνων\, στρατηγικός επόπτης και φορέας τελικής ευθύνης. \nΤο νέο αυτό governance framework — πιο απαιτητικό\, πιο διαφανές και βαθιά ενσωματωμένο στη στρατηγική των επιχειρήσεων — αποτελεί το επίκεντρο του Συνεδρίου Corporate Governance & Compliance.
URL:https://www.depa.gr/event/corporate-governance-compliance-conference-3/
LOCATION:Sofitel Athens Airport
ATTACH;FMTTYPE=image/png:https://www.depa.gr/wp-content/uploads/2026/03/screenshot-2026-03-10-100655.png
END:VEVENT
BEGIN:VEVENT
DTSTART;VALUE=DATE:20260319
DTEND;VALUE=DATE:20260321
DTSTAMP:20260423T081934
CREATED:20260224T075814Z
LAST-MODIFIED:20260224T075814Z
UID:20520-1773878400-1774051199@www.depa.gr
SUMMARY:East Macedonia and Thrace Forum IV
DESCRIPTION:The East Macedonia and Thrace Forum IV is a pivotal platform showcasing the region’s crucial economic and geostrategic role and its immense potential for Greece and wider South East Europe.\nCentral to this is the choice of Alexandroupolis\, a port city rapidly evolving into a vital energy and logistics hub. Building on past success\, the Forum brings together the political\, business\, academic\, and social fabric of the South-East Europe region to host intense dialogue on pressing issues.
URL:https://www.depa.gr/event/east-macedonia-and-thrace-forum-iv/
LOCATION:Grecotel Astir Palace
ATTACH;FMTTYPE=image/png:https://www.depa.gr/wp-content/uploads/2026/02/screenshot-2026-02-24-095746.png
END:VEVENT
BEGIN:VEVENT
DTSTART;VALUE=DATE:20260319
DTEND;VALUE=DATE:20260320
DTSTAMP:20260423T081934
CREATED:20260310T081307Z
LAST-MODIFIED:20260310T081307Z
UID:20669-1773878400-1773964799@www.depa.gr
SUMMARY:14η Εταιρική Υπευθυνότητα στην Πράξη
DESCRIPTION:Αλλάζοντας τον κόσμο\,\nμια συνέργεια την φορά\nΠέμπτη 19 Μαρτίου 2026\nΑμφιθέατρο ΟΤΕAcademy\nΤο πληρέστερο πανόραμα δράσεων Εταιρικής Κοινωνικής Ευθύνης στην Ελλάδα επιστρέφει δυναμικά! Για 14η συνεχή χρονιά\, 300+ στελέχη 100+ εταιρειών\, οργανισμών και φορέων της Κοινωνίας των Πολιτών συναντιούνται για να παρουσιάσουν\, να εμπνευστούν και να συνδιαμορφώσουν το μέλλον της υπεύθυνης επιχειρηματικότητας. Η φετινή διοργάνωση θα παρουσιάσει δεκάδες αληθινές ιστορίες Εταιρικής Υπευθυνότητας με θετικό αντίκτυπο στο περιβάλλον και στην κοινωνία\, ενώ θα συνεχίσει τον διάλογο για την επικαιροποίηση του νοήματος και της αποστολής της Εταιρικής Υπευθυνότητας. Πρωτοβουλίες που αλλάζουν ζωές\, συνεργασίες με ουσιαστικό κοινωνικό αποτύπωμα και παραδείγματα που θέτουν νέα πρότυπα βιωσιμότητας και ανθρωπιάς.
URL:https://www.depa.gr/event/14i-etairiki-ypefthynotita-stin-praxi/
LOCATION:Αμφιθέατρο OTEAcademy\, Greece
ATTACH;FMTTYPE=image/png:https://www.depa.gr/wp-content/uploads/2026/03/screenshot-2026-03-10-101111.png
END:VEVENT
END:VCALENDAR