BEGIN:VCALENDAR
VERSION:2.0
PRODID:-//ΔΕΠΑ ΕΜΠΟΡΙΑΣ Μ.Α.Ε - ECPv6.15.17.1//NONSGML v1.0//EN
CALSCALE:GREGORIAN
METHOD:PUBLISH
X-WR-CALNAME:ΔΕΠΑ ΕΜΠΟΡΙΑΣ Μ.Α.Ε
X-ORIGINAL-URL:https://www.depa.gr
X-WR-CALDESC:Events for ΔΕΠΑ ΕΜΠΟΡΙΑΣ Μ.Α.Ε
REFRESH-INTERVAL;VALUE=DURATION:PT1H
X-Robots-Tag:noindex
X-PUBLISHED-TTL:PT1H
BEGIN:VTIMEZONE
TZID:UTC
BEGIN:STANDARD
TZOFFSETFROM:+0000
TZOFFSETTO:+0000
TZNAME:UTC
DTSTART:20220101T000000
END:STANDARD
END:VTIMEZONE
BEGIN:VEVENT
DTSTART;VALUE=DATE:20230125
DTEND;VALUE=DATE:20230126
DTSTAMP:20260421T113110
CREATED:20220926T070613Z
LAST-MODIFIED:20220926T070613Z
UID:16410-1674604800-1674691199@www.depa.gr
SUMMARY:6th InsurTech conference
DESCRIPTION:Future-ready Digital Insurance: Innovation & Customer centricity\n\n\nWednesday 25 January 2023 | Athens \n\n\nInsurance Industry is fast evolving in this era of disruption governed by digital transformation interventions\, and achievements reflecting the current and future imperatives of the market. Insurers and the Insurtech ecosystem give emphasis in upgrading human-centered excellence\, capitalizing on their employees’ competences and digital skills readiness in an agile and engaging pace. Further\, the most crucial is to relate growth with customer-centric services elevating customers to partners being proactive by knowing how to anticipate their needs.  
URL:https://www.depa.gr/event/6th-insurtech-conference/
ATTACH;FMTTYPE=image/png:https://www.depa.gr/wp-content/uploads/2022/09/6th-insurtech-conference.png
END:VEVENT
BEGIN:VEVENT
DTSTART;VALUE=DATE:20230126
DTEND;VALUE=DATE:20230127
DTSTAMP:20260421T113110
CREATED:20220926T073326Z
LAST-MODIFIED:20220926T073326Z
UID:16414-1674691200-1674777599@www.depa.gr
SUMMARY:CX Summit
DESCRIPTION:Into the Future of Customer Journey\n\n\n\n\n\nIn the new ever-changing world\, CX will be a priority for brands and businesses for 2023 and beyond. \nIt seems that nothing will be the same again for brands and businesses. Recent crises and current challenges are now shaping our new V.U.C.A world (Volatility\, Uncertainty\, Complexity\, Ambiguity). The global pandemic crisis\, geopolitical crisis and the war in Ukraine\, the climate change\, the induction of new technologies and AI\, are causing dynamic changes to all aspects of life\, therefore to consumer’s behavior and demands. \nAre CX professionals ready to tackle the new challenges and turn adversity into an opportunity?
URL:https://www.depa.gr/event/cx-summit-2/
LOCATION:Live Online & Interactive
ATTACH;FMTTYPE=image/png:https://www.depa.gr/wp-content/uploads/2022/09/cx-summit.png
END:VEVENT
BEGIN:VEVENT
DTSTART;VALUE=DATE:20230131
DTEND;VALUE=DATE:20230201
DTSTAMP:20260421T113110
CREATED:20230112T132720Z
LAST-MODIFIED:20230112T132720Z
UID:16604-1675123200-1675209599@www.depa.gr
SUMMARY:1st Wellbeing at Work conference
DESCRIPTION:Η ευζωία\, η ευεξία\, η ασφάλεια και η υγεία των εργαζομένων βρίσκονταν πάντα στην ατζέντα των επιχειρήσεων. Χρειάστηκε\, ωστόσο\, μια πανδημία ώστε το Wellbeing στην εργασία να γίνει η απόλυτη προτεραιότητα των οργανισμών και να αναδειχθούν όλες οι πτυχές του θέματος.
URL:https://www.depa.gr/event/1st-wellbeing-at-work-conference/
ATTACH;FMTTYPE=image/png:https://www.depa.gr/wp-content/uploads/2023/01/katagrafi-well.png
END:VEVENT
END:VCALENDAR